BEGIN:VCALENDAR
VERSION:2.0
PRODID:-//CAD-Ray.com - ECPv5.16.4//NONSGML v1.0//EN
CALSCALE:GREGORIAN
METHOD:PUBLISH
X-ORIGINAL-URL:https://www.cad-ray.com
X-WR-CALDESC:Events for CAD-Ray.com
REFRESH-INTERVAL;VALUE=DURATION:PT1H
X-Robots-Tag:noindex
X-PUBLISHED-TTL:PT1H
BEGIN:VTIMEZONE
TZID:America/Los_Angeles
BEGIN:DAYLIGHT
TZOFFSETFROM:-0800
TZOFFSETTO:-0700
TZNAME:PDT
DTSTART:20240310T100000
END:DAYLIGHT
BEGIN:STANDARD
TZOFFSETFROM:-0700
TZOFFSETTO:-0800
TZNAME:PST
DTSTART:20241103T090000
END:STANDARD
BEGIN:DAYLIGHT
TZOFFSETFROM:-0800
TZOFFSETTO:-0700
TZNAME:PDT
DTSTART:20250309T100000
END:DAYLIGHT
BEGIN:STANDARD
TZOFFSETFROM:-0700
TZOFFSETTO:-0800
TZNAME:PST
DTSTART:20251102T090000
END:STANDARD
END:VTIMEZONE
BEGIN:VEVENT
DTSTART;TZID=America/Los_Angeles:20250220T080000
DTEND;TZID=America/Los_Angeles:20250222T170000
DTSTAMP:20260421T101737
CREATED:20241217T213850Z
LAST-MODIFIED:20241217T213850Z
UID:127366-1740038400-1740243600@www.cad-ray.com
SUMMARY:Chicago Midwinter Meeting February 20-22\,  2025 Booth 3108
DESCRIPTION:Related
URL:https://www.cad-ray.com/event/chicago-midwinter-meeting-february-20-22-2025-booth-3108/
LOCATION:McCormick Place\, 2301 S King Dr\, Chicago\, IL\, 60616\, United States
CATEGORIES:Conventions
ATTACH;FMTTYPE=image/jpeg:https://www.cad-ray.com/wp-content/uploads/2024/12/cadray-chicago.jpg
END:VEVENT
BEGIN:VEVENT
DTSTART;TZID=America/Los_Angeles:20240222T080000
DTEND;TZID=America/Los_Angeles:20240224T170000
DTSTAMP:20260421T101737
CREATED:20231108T194149Z
LAST-MODIFIED:20240215T184732Z
UID:110492-1708588800-1708794000@www.cad-ray.com
SUMMARY:chicago midwinter meeting - Booth 1736
DESCRIPTION:Related
URL:https://www.cad-ray.com/event/chicago-midwinter-meeting-3/
LOCATION:McCormick Place\, 2301 S King Dr\, Chicago\, IL\, 60616\, United States
CATEGORIES:Conventions
ATTACH;FMTTYPE=image/png:https://www.cad-ray.com/wp-content/uploads/2023/11/midwinter.png
END:VEVENT
END:VCALENDAR